BEGIN:VCALENDAR
VERSION:2.0
PRODID:-//Bethesda-Chevy Chase Chapter of the IWLA - ECPv6.15.20//NONSGML v1.0//EN
CALSCALE:GREGORIAN
METHOD:PUBLISH
X-ORIGINAL-URL:https://bcciwla.org
X-WR-CALDESC:Events for Bethesda-Chevy Chase Chapter of the IWLA
REFRESH-INTERVAL;VALUE=DURATION:PT1H
X-Robots-Tag:noindex
X-PUBLISHED-TTL:PT1H
BEGIN:VTIMEZONE
TZID:America/New_York
BEGIN:DAYLIGHT
TZOFFSETFROM:-0500
TZOFFSETTO:-0400
TZNAME:EDT
DTSTART:20210314T070000
END:DAYLIGHT
BEGIN:STANDARD
TZOFFSETFROM:-0400
TZOFFSETTO:-0500
TZNAME:EST
DTSTART:20211107T060000
END:STANDARD
BEGIN:DAYLIGHT
TZOFFSETFROM:-0500
TZOFFSETTO:-0400
TZNAME:EDT
DTSTART:20220313T070000
END:DAYLIGHT
BEGIN:STANDARD
TZOFFSETFROM:-0400
TZOFFSETTO:-0500
TZNAME:EST
DTSTART:20221106T060000
END:STANDARD
BEGIN:DAYLIGHT
TZOFFSETFROM:-0500
TZOFFSETTO:-0400
TZNAME:EDT
DTSTART:20230312T070000
END:DAYLIGHT
BEGIN:STANDARD
TZOFFSETFROM:-0400
TZOFFSETTO:-0500
TZNAME:EST
DTSTART:20231105T060000
END:STANDARD
END:VTIMEZONE
BEGIN:VEVENT
DTSTART;TZID=America/New_York:20221105T073000
DTEND;TZID=America/New_York:20221105T213000
DTSTAMP:20260423T072848
CREATED:20220308T165849Z
LAST-MODIFIED:20220415T153738Z
UID:10003637-1667633400-1667683800@bcciwla.org
SUMMARY:Summer R&P Biathlon Practice (7:30am-9am)
DESCRIPTION:The primary mission of the B-CC IWLA Summer Biathlon is a safely run program \nRange safety is paramount. A rolled ankle on the run course is acceptable\, but a glitch on the range is not \nWithin the bounds of range safety\, the secondary mission is to provide a venue for fun and comradery \nOur goal is to expand the number of participants so we that we fill both the small and big ends \nTo that end\, members please advertise to all the athletes you know – runners\, LAX\, soccer\, triathletes\, etc. \nB-CC IWLA Biathlon Practice consists of (5) 1-kilometer loops and 4 shooting stops at the range \n\nShooting stops 1 & 3 are from the prone position\nStops 2 & 4 are off-hand\n\nBolt action .22 caliber\, iron-sight rifles firing .22LR standard-velocity ammunition are the standard for summer biathlon \nFor biathlon practice\, any rifle chambered for .22LR is acceptable\, but standard-velocity ammo is mandated for preservation of the steel targets \nIf you have any questions about biathlon\, or a desire to be on the B-CC IWLA Summer Biathlon Program mailing list\, contact Steve Eschholz at FitnessCrafters@earthlink.net or (240) 472-6512 (text)
URL:https://bcciwla.org/event/summer-rp-biathlon-practice-730am-9am/2022-11-05/
LOCATION:R&P Range\, 20601 Izaak Walton Way\, Poolesville\, MD\, 20837\, United States
CATEGORIES:R&P Range,Youth Programs
ATTACH;FMTTYPE=image/jpeg:https://bcciwla.org/wp-content/uploads/2022/03/Biathlon-Steve-smile-scaled.jpg
ORGANIZER;CN="Steve Eschholz":MAILTO:fitnesscrafters@earthlink.net
END:VEVENT
BEGIN:VEVENT
DTSTART;TZID=America/New_York:20221112T073000
DTEND;TZID=America/New_York:20221112T213000
DTSTAMP:20260423T072848
CREATED:20220308T165849Z
LAST-MODIFIED:20220415T153738Z
UID:10003638-1668238200-1668288600@bcciwla.org
SUMMARY:Summer R&P Biathlon Practice (7:30am-9am)
DESCRIPTION:The primary mission of the B-CC IWLA Summer Biathlon is a safely run program \nRange safety is paramount. A rolled ankle on the run course is acceptable\, but a glitch on the range is not \nWithin the bounds of range safety\, the secondary mission is to provide a venue for fun and comradery \nOur goal is to expand the number of participants so we that we fill both the small and big ends \nTo that end\, members please advertise to all the athletes you know – runners\, LAX\, soccer\, triathletes\, etc. \nB-CC IWLA Biathlon Practice consists of (5) 1-kilometer loops and 4 shooting stops at the range \n\nShooting stops 1 & 3 are from the prone position\nStops 2 & 4 are off-hand\n\nBolt action .22 caliber\, iron-sight rifles firing .22LR standard-velocity ammunition are the standard for summer biathlon \nFor biathlon practice\, any rifle chambered for .22LR is acceptable\, but standard-velocity ammo is mandated for preservation of the steel targets \nIf you have any questions about biathlon\, or a desire to be on the B-CC IWLA Summer Biathlon Program mailing list\, contact Steve Eschholz at FitnessCrafters@earthlink.net or (240) 472-6512 (text)
URL:https://bcciwla.org/event/summer-rp-biathlon-practice-730am-9am/2022-11-12/
LOCATION:R&P Range\, 20601 Izaak Walton Way\, Poolesville\, MD\, 20837\, United States
CATEGORIES:R&P Range,Youth Programs
ATTACH;FMTTYPE=image/jpeg:https://bcciwla.org/wp-content/uploads/2022/03/Biathlon-Steve-smile-scaled.jpg
ORGANIZER;CN="Steve Eschholz":MAILTO:fitnesscrafters@earthlink.net
END:VEVENT
END:VCALENDAR