BEGIN:VCALENDAR
VERSION:2.0
PRODID:-//Bethesda-Chevy Chase Chapter of the IWLA - ECPv6.15.20//NONSGML v1.0//EN
CALSCALE:GREGORIAN
METHOD:PUBLISH
X-ORIGINAL-URL:https://bcciwla.org
X-WR-CALDESC:Events for Bethesda-Chevy Chase Chapter of the IWLA
REFRESH-INTERVAL;VALUE=DURATION:PT1H
X-Robots-Tag:noindex
X-PUBLISHED-TTL:PT1H
BEGIN:VTIMEZONE
TZID:America/New_York
BEGIN:DAYLIGHT
TZOFFSETFROM:-0500
TZOFFSETTO:-0400
TZNAME:EDT
DTSTART:20250309T070000
END:DAYLIGHT
BEGIN:STANDARD
TZOFFSETFROM:-0400
TZOFFSETTO:-0500
TZNAME:EST
DTSTART:20251102T060000
END:STANDARD
BEGIN:DAYLIGHT
TZOFFSETFROM:-0500
TZOFFSETTO:-0400
TZNAME:EDT
DTSTART:20260308T070000
END:DAYLIGHT
BEGIN:STANDARD
TZOFFSETFROM:-0400
TZOFFSETTO:-0500
TZNAME:EST
DTSTART:20261101T060000
END:STANDARD
BEGIN:DAYLIGHT
TZOFFSETFROM:-0500
TZOFFSETTO:-0400
TZNAME:EDT
DTSTART:20270314T070000
END:DAYLIGHT
BEGIN:STANDARD
TZOFFSETFROM:-0400
TZOFFSETTO:-0500
TZNAME:EST
DTSTART:20271107T060000
END:STANDARD
END:VTIMEZONE
BEGIN:VEVENT
DTSTART;TZID=America/New_York:20260425T070000
DTEND;TZID=America/New_York:20260426T180000
DTSTAMP:20260420T153601
CREATED:20211027T191903Z
LAST-MODIFIED:20241120T015120Z
UID:10003466-1777100400-1777226400@bcciwla.org
SUMMARY:Spring Hunter Education Course
DESCRIPTION:Spring  Hunters’ Education Course \nB-CC IWLA Hunter Safety Education instructors will be using the entire chapterhouse all weekend to teach their annual spring class \nBathrooms will be open\, and members are asked to enter the chapterhouse respectfully when accessing them \nThe greatroom of the chapterhouse\, the boardroom\, the cardroom\, and both kitchens will be occupied by the class all weekend \n 
URL:https://bcciwla.org/event/spring-hunters-education-course-2023-04-29-2024-04-27-2025-04-26/2026-04-25/
LOCATION:Chapterhouse
CATEGORIES:Chapterhouse,Hunting
ATTACH;FMTTYPE=image/jpeg:https://bcciwla.org/wp-content/uploads/2021/10/MD-Hunter-Safety-Patch.jpg
END:VEVENT
BEGIN:VEVENT
DTSTART;TZID=America/New_York:20260516T090000
DTEND;TZID=America/New_York:20260516T120000
DTSTAMP:20260420T153601
CREATED:20251203T124753Z
LAST-MODIFIED:20251203T125243Z
UID:10006452-1778922000-1778932800@bcciwla.org
SUMMARY:Chapterhouse Cleanup (Closed 9am-Noon)
DESCRIPTION:Chapterhouse Cleanup: \nB-CC Member\, the chapterhouse will be closed in the morning for its monthly cleaning & dusting just in time for the following Wednesday’s dinner meeting. Great opportunity to earn volunteer hours. \nremember to sign up at \nhttps://www.signupgenius.com/go/10C0D4DACAA28A7F8C25-51060445-monthly \n 
URL:https://bcciwla.org/event/chapterhouse-cleanup-closed-9am-noon-20/
LOCATION:Chapterhouse
CATEGORIES:Chapterhouse
END:VEVENT
BEGIN:VEVENT
DTSTART;TZID=America/New_York:20260516T150000
DTEND;TZID=America/New_York:20260517T100000
DTSTAMP:20260420T153601
CREATED:20260329T150537Z
LAST-MODIFIED:20260401T002421Z
UID:10006483-1778943600-1779012000@bcciwla.org
SUMMARY:2026 Spring Family Campout
DESCRIPTION:The Annual Spring Family Campout is scheduled for Saturday\, May 23rd  (weather permitting). This event is open for members and their guests. As usual\, the events will start Saturday afternoon and continue into Sunday morning (dinner and breakfast provided). The Chapterhouse will remain open throughout the event. This is a great opportunity for first-time campers.\n\n\n\nSaturday\nTent setup around the chapterhouse begins at 3pm\nFishing and Crafts  4pm-6pm\nEvening cookout will be provided from 6pm-7pm\nS’mores around the campfire @ the chapterhouse firepit\n\nSunday\nBreakfast will be served Sunday morning to campers starting at 7:00am\nBreakdown & cleanup will be completed by 9 am\n\nThis is a great time to spend time with your immediate family and to meet other B-CC IWLA members\, families and guests.  The event is free to members\, but we ask for donations from guests to help offset our costs.\n\nPlease register before the 21st May so we can plan for food and provide updates due to weather.\n\n\nhttps://www.signupgenius.com/go/10C0D4DACAA28A7F8C25-63229055-2026
URL:https://bcciwla.org/event/2026-spring-family-campout/
LOCATION:Chapterhouse
CATEGORIES:Chapterhouse,Youth Programs
END:VEVENT
BEGIN:VEVENT
DTSTART;VALUE=DATE:20260621
DTEND;VALUE=DATE:20260623
DTSTAMP:20260420T153601
CREATED:20220415T164636Z
LAST-MODIFIED:20220521T145459Z
UID:10003724-1782003600-1782089999@bcciwla.org
SUMMARY:Fathers Day Events (Swap Meet\, Silent Auction\, Shotgun Range\, Big Pond Fishing Derby\, Family Picnic)
DESCRIPTION:Fun Shoot at the Shotgun Range \n\nStarts at 9am\n75 targets for $15.00\n\n25 Skeet Targets\n25 Trap Targets\n25 Sporting Clays Targets\n\n\nOptional Lewis for extra $5\n\nEveryone is Welcome !!! \nFor more information\, contact Warner Parks\nShotgun.BCC.IWLA@gmail.com \n\nSwap Meet & Silent Auction \nIf you have anything outdoors related and … would like a table for the Father’s Day swap meet or to donate an item for the silent auction\, please: \n\nCall –  Lawrence Kotchek @ (240) 793-5316\nEmail – Auctions.BCC.IWLA@gmail.com\n\nTables are limited and will be reserved in the order requested \nOpen to both members and prospective members \nTables cost $10.00 with money going to the B-CC IWLA Land Fund \nSilent auction proceeds benefit the B-CC IWLA Land Fund \n\nFishing Derby at the Big Pond \nPrizes each for two age groups: \n\nAdults\nChildren\n\nFishing equipment will be supplied by the Ponds & Streams Committee for anyone who shows up without \nContact John Novak for more information: NovakGang4@comcast.net \nEveryone Welcome! \n\nFathers Day Family Picnic \nLunch will be served at 1:00pm \nCome and reminisce about fathers\, the fun shot\, the bass that got away\, … over a picnic lunch prepared by chapter volunteers \n\nIndividuals – $5\nFamilies – $10
URL:https://bcciwla.org/event/fathers-day-events-swap-meet-silent-auction-shotgun-range-big-pond-fishing-derby-family-picnic/2026-06-21/
LOCATION:Chapterhouse
CATEGORIES:Chapterhouse,Fishing,Shotgun Range
ATTACH;FMTTYPE=image/jpeg:https://bcciwla.org/wp-content/uploads/2022/04/Fathers-Day-Happy.jpg
ORGANIZER;CN="Carol Hulce-Efdemis":MAILTO:carol2017@aol.com
END:VEVENT
BEGIN:VEVENT
DTSTART;TZID=America/New_York:20260627T120000
DTEND;TZID=America/New_York:20260627T160000
DTSTAMP:20260420T153601
CREATED:20260329T145749Z
LAST-MODIFIED:20260414T175509Z
UID:10006482-1782561600-1782576000@bcciwla.org
SUMMARY:2026 Heritage Day at the Chapter
DESCRIPTION:The B-CC IWLA Chapter is pleased to open its doors once again for Heritage Days and will offer access to our site to promote our conservation message as well as share our local history. This year marks the 27h annual Heritage Days weekend\, a countywide festival offering programs\, activities\, and tours appealing to visitors of all ages and interests. We will be opening our doors on Saturday June 27th. \nWe encourage you to come to the Chapter\, enjoy our displays\, activities\, and discover things about the chapter you may not know. Family activities such as fishing\, archeology\, colonial living\, archery\, air pistols\, bird watching\, wildlife and insect displays\, in addition to a picnic lunch and soft drinks. This is a great chance to visit the chapter with your family and/or bring guests to show what the IWLA is all about. Gates will be open from 12:00 noon to 4:00pm on Saturday June 27th (Rain or Shine).
URL:https://bcciwla.org/event/2026-heritage-day-at-the-chapter/
LOCATION:Chapterhouse
CATEGORIES:Chapterhouse,R&P Range
END:VEVENT
BEGIN:VEVENT
DTSTART;TZID=America/New_York:20260815T090000
DTEND;TZID=America/New_York:20260815T120000
DTSTAMP:20260420T153601
CREATED:20251203T124838Z
LAST-MODIFIED:20251203T125118Z
UID:10006453-1786784400-1786795200@bcciwla.org
SUMMARY:Chapterhouse Cleanup (Closed 9am-Noon)
DESCRIPTION:Chapterhouse Cleanup: \nB-CC Member\, the chapterhouse will be closed in the morning for its monthly cleaning & dusting just in time for the following Wednesday’s dinner meeting. Great opportunity to earn volunteer hours. \nremember to sign up at \nhttps://www.signupgenius.com/go/10C0D4DACAA28A7F8C25-51060445-monthly \n 
URL:https://bcciwla.org/event/chapterhouse-cleanup-closed-9am-noon-21/
LOCATION:Chapterhouse
CATEGORIES:Chapterhouse
END:VEVENT
BEGIN:VEVENT
DTSTART;TZID=America/New_York:20261017T090000
DTEND;TZID=America/New_York:20261017T120000
DTSTAMP:20260420T153601
CREATED:20251203T124932Z
LAST-MODIFIED:20251203T124932Z
UID:10006454-1792227600-1792238400@bcciwla.org
SUMMARY:Chapterhouse Cleanup (Closed 9am-Noon)
DESCRIPTION:Chapterhouse Cleanup: \nB-CC Member\, the chapterhouse will be closed in the morning for its monthly cleaning & dusting just in time for the following Wednesday’s dinner meeting. Great opportunity to earn volunteer hours. \nremember to sign up at \nhttps://www.signupgenius.com/go/10C0D4DACAA28A7F8C25-51060445-monthly \n 
URL:https://bcciwla.org/event/chapterhouse-cleanup-closed-9am-noon-22/
LOCATION:Chapterhouse
CATEGORIES:Chapterhouse
END:VEVENT
END:VCALENDAR