BEGIN:VCALENDAR
VERSION:2.0
PRODID:-//Bethesda-Chevy Chase Chapter of the IWLA - ECPv6.15.20//NONSGML v1.0//EN
CALSCALE:GREGORIAN
METHOD:PUBLISH
X-ORIGINAL-URL:https://bcciwla.org
X-WR-CALDESC:Events for Bethesda-Chevy Chase Chapter of the IWLA
REFRESH-INTERVAL;VALUE=DURATION:PT1H
X-Robots-Tag:noindex
X-PUBLISHED-TTL:PT1H
BEGIN:VTIMEZONE
TZID:America/New_York
BEGIN:DAYLIGHT
TZOFFSETFROM:-0500
TZOFFSETTO:-0400
TZNAME:EDT
DTSTART:20220313T070000
END:DAYLIGHT
BEGIN:STANDARD
TZOFFSETFROM:-0400
TZOFFSETTO:-0500
TZNAME:EST
DTSTART:20221106T060000
END:STANDARD
BEGIN:DAYLIGHT
TZOFFSETFROM:-0500
TZOFFSETTO:-0400
TZNAME:EDT
DTSTART:20230312T070000
END:DAYLIGHT
BEGIN:STANDARD
TZOFFSETFROM:-0400
TZOFFSETTO:-0500
TZNAME:EST
DTSTART:20231105T060000
END:STANDARD
BEGIN:DAYLIGHT
TZOFFSETFROM:-0500
TZOFFSETTO:-0400
TZNAME:EDT
DTSTART:20240310T070000
END:DAYLIGHT
BEGIN:STANDARD
TZOFFSETFROM:-0400
TZOFFSETTO:-0500
TZNAME:EST
DTSTART:20241103T060000
END:STANDARD
BEGIN:DAYLIGHT
TZOFFSETFROM:-0500
TZOFFSETTO:-0400
TZNAME:EDT
DTSTART:20250309T070000
END:DAYLIGHT
BEGIN:STANDARD
TZOFFSETFROM:-0400
TZOFFSETTO:-0500
TZNAME:EST
DTSTART:20251102T060000
END:STANDARD
BEGIN:DAYLIGHT
TZOFFSETFROM:-0500
TZOFFSETTO:-0400
TZNAME:EDT
DTSTART:20260308T070000
END:DAYLIGHT
BEGIN:STANDARD
TZOFFSETFROM:-0400
TZOFFSETTO:-0500
TZNAME:EST
DTSTART:20261101T060000
END:STANDARD
BEGIN:DAYLIGHT
TZOFFSETFROM:-0500
TZOFFSETTO:-0400
TZNAME:EDT
DTSTART:20270314T070000
END:DAYLIGHT
BEGIN:STANDARD
TZOFFSETFROM:-0400
TZOFFSETTO:-0500
TZNAME:EST
DTSTART:20271107T060000
END:STANDARD
END:VTIMEZONE
BEGIN:VEVENT
DTSTART;TZID=America/New_York:20260411T090000
DTEND;TZID=America/New_York:20260411T120000
DTSTAMP:20260420T173143
CREATED:20250907T050247Z
LAST-MODIFIED:20251203T124520Z
UID:10006443-1775898000-1775908800@bcciwla.org
SUMMARY:Chapterhouse Cleanup (Closed 9am-Noon)
DESCRIPTION:Chapterhouse Cleanup: \nB-CC Member\, the chapterhouse will be closed in the morning for its monthly cleaning & dusting just in time for the following Wednesday’s dinner meeting. Great opportunity to earn volunteer hours. \nremember to sign up at \nhttps://www.signupgenius.com/go/10C0D4DACAA28A7F8C25-51060445-monthly \n  \n  \n 
URL:https://bcciwla.org/event/chapterhouse-cleanup-closed-9am-noon-16/2026-04-11/
LOCATION:Chapterhouse
CATEGORIES:Chapterhouse
END:VEVENT
BEGIN:VEVENT
DTSTART;TZID=America/New_York:20260315T090000
DTEND;TZID=America/New_York:20260315T110000
DTSTAMP:20260420T173143
CREATED:20260304T213450Z
LAST-MODIFIED:20260304T213450Z
UID:10006471-1773565200-1773572400@bcciwla.org
SUMMARY:RO Sign Up Day 2
DESCRIPTION:The sign-ups for current range officers and new range officers that have completed the training will be on Saturday\, March 7 and Sunday\, March 15 starting at 9:00am. Bring your membership card and current RO card to the meeting. Scheduling of duty days will be on-line by Signup Genius after the in-person meetings. Information and links to the on-line R&P Range officer course for prospective range officers will be in the next e-blast.
URL:https://bcciwla.org/event/ro-sign-up-day-2/
LOCATION:Chapterhouse
CATEGORIES:Chapterhouse,R&P Range
END:VEVENT
BEGIN:VEVENT
DTSTART;TZID=America/New_York:20260307T090000
DTEND;TZID=America/New_York:20260307T110000
DTSTAMP:20260420T173143
CREATED:20260304T213231Z
LAST-MODIFIED:20260304T213231Z
UID:10006470-1772874000-1772881200@bcciwla.org
SUMMARY:RO Sign Up Day 1
DESCRIPTION:The sign-ups for current range officers and new range officers that have completed the training will be on Saturday\, March 7 and Sunday\, March 15 starting at 9:00am. Bring your membership card and current RO card to the meeting. Scheduling of duty days will be on-line by Signup Genius after the in-person meetings. Information and links to the on-line R&P Range officer course for prospective range officers will be in the next e-blast.
URL:https://bcciwla.org/event/ro-sign-up-day-1/
LOCATION:Chapterhouse
CATEGORIES:Chapterhouse,R&P Range
END:VEVENT
BEGIN:VEVENT
DTSTART;TZID=America/New_York:20260228T180000
DTEND;TZID=America/New_York:20260228T220000
DTSTAMP:20260420T173143
CREATED:20251212T131331Z
LAST-MODIFIED:20251212T131331Z
UID:10006457-1772301600-1772316000@bcciwla.org
SUMMARY:Wild Game Dinner
DESCRIPTION:Bring your family and friends and link up with fellow chapter members at the annual B-CC IWLA Wild Game Dinner for a night of food\, fellowship\, memories\, and\nshared outdoor heritage.
URL:https://bcciwla.org/event/wild-game-dinner-4/
LOCATION:Chapterhouse
CATEGORIES:Chapterhouse
END:VEVENT
BEGIN:VEVENT
DTSTART;TZID=America/New_York:20260207T110000
DTEND;TZID=America/New_York:20260207T160000
DTSTAMP:20260420T173143
CREATED:20251203T125702Z
LAST-MODIFIED:20251203T125702Z
UID:10006456-1770462000-1770480000@bcciwla.org
SUMMARY:NAVHDA Potomac Annual Meeting
DESCRIPTION:NAVHDA Potomac annual meeting
URL:https://bcciwla.org/event/navhda-potomac-annual-meeting/
LOCATION:Chapterhouse
CATEGORIES:Chapterhouse,Commercial
END:VEVENT
BEGIN:VEVENT
DTSTART;TZID=America/New_York:20260117T090000
DTEND;TZID=America/New_York:20260117T120000
DTSTAMP:20260420T173143
CREATED:20251203T124710Z
LAST-MODIFIED:20251203T124710Z
UID:10006451-1768640400-1768651200@bcciwla.org
SUMMARY:Chapterhouse Cleanup (Closed 9am-Noon)
DESCRIPTION:Chapterhouse Cleanup: \nB-CC Member\, the chapterhouse will be closed in the morning for its monthly cleaning & dusting just in time for the following Wednesday’s dinner meeting. Great opportunity to earn volunteer hours. \nremember to sign up at \nhttps://www.signupgenius.com/go/10C0D4DACAA28A7F8C25-51060445-monthly \n 
URL:https://bcciwla.org/event/chapterhouse-cleanup-closed-9am-noon-19/
LOCATION:Chapterhouse
CATEGORIES:Chapterhouse
END:VEVENT
BEGIN:VEVENT
DTSTART;TZID=America/New_York:20251214T070000
DTEND;TZID=America/New_York:20251214T120000
DTSTAMP:20260420T173143
CREATED:20250929T152042Z
LAST-MODIFIED:20250929T153726Z
UID:10005870-1765695600-1765713600@bcciwla.org
SUMMARY:Montgomery Bird Club\, Christmas Bird Count
DESCRIPTION:The annual Christmas Bird Count sponsored by Audubon and the Cornell Lab is scheduled to take place on Sunday\, December 14. \nCome to the Chapter and help out.
URL:https://bcciwla.org/event/montgomery-bird-club-christmas-bird-count-2/
LOCATION:Chapterhouse
CATEGORIES:Birdwatching,Chapterhouse
END:VEVENT
BEGIN:VEVENT
DTSTART;TZID=America/New_York:20250906T070000
DTEND;TZID=America/New_York:20250907T180000
DTSTAMP:20260420T173143
CREATED:20250430T203512Z
LAST-MODIFIED:20250430T203522Z
UID:10002769-1757142000-1757268000@bcciwla.org
SUMMARY:Fall Hunters' Education Course
DESCRIPTION:Fall 2025 Hunters’ Education Course \nSaturday and Sunday\, September 6 & 7 \nAll-day Chapterhouse Event
URL:https://bcciwla.org/event/fall-hunters-education-course-2-2/
LOCATION:Chapterhouse
CATEGORIES:Chapterhouse,Hunting
END:VEVENT
BEGIN:VEVENT
DTSTART;TZID=America/New_York:20250707T100000
DTEND;TZID=America/New_York:20250707T113000
DTSTAMP:20260420T173143
CREATED:20250618T194316Z
LAST-MODIFIED:20250619T164342Z
UID:10005669-1751882400-1751887800@bcciwla.org
SUMMARY:New and Prospective Members Orientation Tour (10am-11:30am)
DESCRIPTION:Come join us on the B-CC IWLA Orientation Tour! \nThis event is open to all members (new and old) and those who are interested in membership to the chapter or just curious about what we do. \nThis guided tour of our property will include an overview of our history and mission\, our facilities\, the partnerships with local schools and organizations and a chance to meet and ask questions to current members. \nFollow Izaak Walton Way through the gate to the Chapter House parking lot where we will be meeting to start the tour. \nSignup here: \nhttps://www.signupgenius.com/go/10C0D4DACAA28A7F8C25-54255111-newmember \n 
URL:https://bcciwla.org/event/new-member-orientation-tour-10am-noon-2020-09-21-2/2025-07-07/
LOCATION:Chapterhouse
CATEGORIES:Chapterhouse,Membership,R&P Range,Shotgun Range
ATTACH;FMTTYPE=image/jpeg:https://bcciwla.org/wp-content/uploads/2020/06/Tour-Guide-Border.jpg
END:VEVENT
BEGIN:VEVENT
DTSTART;TZID=America/New_York:20250531T110000
DTEND;TZID=America/New_York:20250531T223000
DTSTAMP:20260420T173143
CREATED:20250124T192331Z
LAST-MODIFIED:20250124T192331Z
UID:10003901-1748689200-1748730600@bcciwla.org
SUMMARY:Private Event at Chapter House
DESCRIPTION:Baby Shower and Wedding
URL:https://bcciwla.org/event/private-event-at-chapter-house/
LOCATION:Chapterhouse
CATEGORIES:Chapterhouse
END:VEVENT
BEGIN:VEVENT
DTSTART;TZID=America/New_York:20250503T070000
DTEND;TZID=America/New_York:20250504T180000
DTSTAMP:20260420T173143
CREATED:20211027T191903Z
LAST-MODIFIED:20241120T015120Z
UID:10003465-1746255600-1746381600@bcciwla.org
SUMMARY:Spring Hunter Education Course
DESCRIPTION:Spring  Hunters’ Education Course \nB-CC IWLA Hunter Safety Education instructors will be using the entire chapterhouse all weekend to teach their annual spring class \nBathrooms will be open\, and members are asked to enter the chapterhouse respectfully when accessing them \nThe greatroom of the chapterhouse\, the boardroom\, the cardroom\, and both kitchens will be occupied by the class all weekend \n 
URL:https://bcciwla.org/event/spring-hunters-education-course-2023-04-29-2024-04-27-2025-04-26/2025-05-03/
LOCATION:Chapterhouse
CATEGORIES:Chapterhouse,Hunting
ATTACH;FMTTYPE=image/jpeg:https://bcciwla.org/wp-content/uploads/2021/10/MD-Hunter-Safety-Patch.jpg
END:VEVENT
BEGIN:VEVENT
DTSTART;TZID=America/New_York:20250322T150000
DTEND;TZID=America/New_York:20250322T180000
DTSTAMP:20260420T173143
CREATED:20250116T221417Z
LAST-MODIFIED:20250116T221417Z
UID:10003860-1742655600-1742666400@bcciwla.org
SUMMARY:B-CC IWLA Bee Keepers (CH)
DESCRIPTION:Meeting for Chapter Members who are Bee Keepers \nHosted by David Mecklenburg
URL:https://bcciwla.org/event/b-cc-iwla-bee-keepers-ch/
LOCATION:Chapterhouse
CATEGORIES:Chapterhouse
END:VEVENT
BEGIN:VEVENT
DTSTART;TZID=America/New_York:20250315T140000
DTEND;TZID=America/New_York:20250315T170000
DTSTAMP:20260420T173143
CREATED:20250211T232255Z
LAST-MODIFIED:20250211T232255Z
UID:10003950-1742047200-1742058000@bcciwla.org
SUMMARY:Cub Scout Pack 694 Pinewood Derby (CH)
DESCRIPTION:Cub Scout Pack 694 Pinewood Derby
URL:https://bcciwla.org/event/cub-scout-pack-694-pinewood-derby-ch/
LOCATION:Chapterhouse
CATEGORIES:Chapterhouse
END:VEVENT
BEGIN:VEVENT
DTSTART;TZID=America/New_York:20250306T170000
DTEND;TZID=America/New_York:20250306T210000
DTSTAMP:20260420T173143
CREATED:20250116T221741Z
LAST-MODIFIED:20250116T230853Z
UID:10003862-1741280400-1741294800@bcciwla.org
SUMMARY:Hunter Education Maryland Instructors (Chapter House)
DESCRIPTION:Training class for the Hunter Education Maryland Instructors\, hosted by Dan Neuland. (Western Region Hunter Education Coordinator).
URL:https://bcciwla.org/event/hunter-education-maryland-instructors-chapter-house/
LOCATION:Chapterhouse
CATEGORIES:Chapterhouse
END:VEVENT
BEGIN:VEVENT
DTSTART;TZID=America/New_York:20250201T163000
DTEND;TZID=America/New_York:20250201T203000
DTSTAMP:20260420T173143
CREATED:20250110T164454Z
LAST-MODIFIED:20250110T164454Z
UID:10003859-1738427400-1738441800@bcciwla.org
SUMMARY:Pack 694 Blue & Gold Dinner (Chapter House)
DESCRIPTION:Pack 694 will be using the Chapter House from 4:30 to 8:30 on Saturday 1st Feb.
URL:https://bcciwla.org/event/pack-694-blue-gold-dinner-chapter-house/
LOCATION:Chapterhouse
CATEGORIES:Chapterhouse
END:VEVENT
BEGIN:VEVENT
DTSTART;TZID=America/New_York:20241123T100000
DTEND;TZID=America/New_York:20241123T130000
DTSTAMP:20260420T173143
CREATED:20200608T154735Z
LAST-MODIFIED:20241023T231019Z
UID:10003817-1732356000-1732366800@bcciwla.org
SUMMARY:New and Prospective Members Orientation Tour (10am-1pm)
DESCRIPTION:Come join us on the B-CC IWLA Orientation Tour! \nThis event is open to all members (new and old) and those who are interested in membership to the chapter or just curious about what we do. \nThis guided tour of our property will include an overview of our history and mission\, our facilities\, the partnerships with local schools and organizations and a chance to meet and ask questions to current members. \nFollow Izaak Walton Way through the gate to the Chapter House parking lot where we will be meeting to start the tour.
URL:https://bcciwla.org/event/new-member-orientation-tour-10am-noon-2020-09-21-2024-11-16/
LOCATION:Chapterhouse
CATEGORIES:Chapterhouse,Membership,R&P Range,Shotgun Range
ATTACH;FMTTYPE=image/jpeg:https://bcciwla.org/wp-content/uploads/2020/06/Tour-Guide-Border.jpg
END:VEVENT
BEGIN:VEVENT
DTSTART;TZID=America/New_York:20241026T100000
DTEND;TZID=America/New_York:20241026T130000
DTSTAMP:20260420T173143
CREATED:20200608T154735Z
LAST-MODIFIED:20241018T194717Z
UID:10003813-1729936800-1729947600@bcciwla.org
SUMMARY:Rescheduled Date: New and Prospective Members Orientation Tour (10am-1pm)
DESCRIPTION:Come join us on the B-CC IWLA Orientation Tour! \nThis event is open to all members (new and old) and those who are interested in membership to the chapter or just curious about what we do. \nThis guided tour of our property will include an overview of our history and mission\, our facilities\, the partnerships with local schools and organizations and a chance to meet and ask questions to current members. \nFollow Izaak Walton Way through the gate to the Chapter House parking lot where we will be meeting to start the tour.
URL:https://bcciwla.org/event/new-member-orientation-tour-10am-noon-2020-09-21-2024-10-19/
LOCATION:Chapterhouse
CATEGORIES:Chapterhouse,Membership,R&P Range,Shotgun Range
ATTACH;FMTTYPE=image/jpeg:https://bcciwla.org/wp-content/uploads/2020/06/Tour-Guide-Border.jpg
END:VEVENT
BEGIN:VEVENT
DTSTART;TZID=America/New_York:20240907T070000
DTEND;TZID=America/New_York:20240908T180000
DTSTAMP:20260420T173143
CREATED:20211027T192221Z
LAST-MODIFIED:20230907T202837Z
UID:10003749-1725692400-1725818400@bcciwla.org
SUMMARY:Fall Hunters' Education Course
DESCRIPTION:Fall 2022 Hunters’ Education Course \nSaturday and Sunday\, September 7 & 8 \nAll-day Chapterhouse Event
URL:https://bcciwla.org/event/fall-hunters-education-course-2024-09-14/
LOCATION:Chapterhouse
CATEGORIES:Chapterhouse,Hunting
END:VEVENT
BEGIN:VEVENT
DTSTART;TZID=America/New_York:20240831T100000
DTEND;TZID=America/New_York:20240831T180000
DTSTAMP:20260420T173143
CREATED:20240524T140426Z
LAST-MODIFIED:20240607T145427Z
UID:10003159-1725098400-1725127200@bcciwla.org
SUMMARY:Woodman Private Event
DESCRIPTION:
URL:https://bcciwla.org/event/private-event-placeholder/
LOCATION:Chapterhouse
CATEGORIES:Chapterhouse
END:VEVENT
BEGIN:VEVENT
DTSTART;TZID=America/New_York:20240824T100000
DTEND;TZID=America/New_York:20240824T113000
DTSTAMP:20260420T173143
CREATED:20200608T154735Z
LAST-MODIFIED:20240805T180226Z
UID:10003765-1724493600-1724499000@bcciwla.org
SUMMARY:New and Prospective Members Orientation Tour (10am-1pm)
DESCRIPTION:Come join us on the B-CC IWLA Orientation Tour! \nThis event is open to all members (new and old) and those who are interested in membership to the chapter or just curious about what we do. \nThis guided tour of our property will include an overview of our history and mission\, our facilities\, the partnerships with local schools and organizations and a chance to meet and ask questions to current members. \nFollow Izaak Walton Way through the gate to the Chapter House parking lot where we will be meeting to start the tour. \nSignup for the tour using the signup genius link below: \nhttps://www.signupgenius.com/go/10C0D4DACAA28A7F8C25-48977796-newmember \nPlease make sure your include your email address and cellphone number so that if the tour needs to be canceled due to a change in the weather\, we will be able to contact you \n 
URL:https://bcciwla.org/event/new-member-orientation-tour-10am-noon-2020-09-21-2024-08-17/
LOCATION:Chapterhouse
CATEGORIES:Chapterhouse,Membership,R&P Range,Shotgun Range
ATTACH;FMTTYPE=image/jpeg:https://bcciwla.org/wp-content/uploads/2020/06/Tour-Guide-Border.jpg
END:VEVENT
BEGIN:VEVENT
DTSTART;TZID=America/New_York:20240622T100000
DTEND;TZID=America/New_York:20240622T130000
DTSTAMP:20260420T173143
CREATED:20200608T154735Z
LAST-MODIFIED:20240621T221632Z
UID:10000590-1719050400-1719061200@bcciwla.org
SUMMARY:Cancelled Due to Heat: New and Prospective Members Orientation Tour (10am-1pm)
DESCRIPTION:Come join us on the B-CC IWLA Orientation Tour! \nThis event is open to all members (new and old) and those who are interested in membership to the chapter or just curious about what we do. \nThis guided tour of our property will include an overview of our history and mission\, our facilities\, the partnerships with local schools and organizations and a chance to meet and ask questions to current members. \nFollow Izaak Walton Way through the gate to the Chapter House parking lot where we will be meeting to start the tour.
URL:https://bcciwla.org/event/new-member-orientation-tour-10am-noon-2020-09-21-2024-06-15/
LOCATION:Chapterhouse
CATEGORIES:Chapterhouse,Membership,R&P Range,Shotgun Range
ATTACH;FMTTYPE=image/jpeg:https://bcciwla.org/wp-content/uploads/2020/06/Tour-Guide-Border.jpg
END:VEVENT
BEGIN:VEVENT
DTSTART;TZID=America/New_York:20240504T070000
DTEND;TZID=America/New_York:20240505T180000
DTSTAMP:20260420T173143
CREATED:20211027T191903Z
LAST-MODIFIED:20230907T202911Z
UID:10003690-1714806000-1714932000@bcciwla.org
SUMMARY:Spring Hunter Education Course
DESCRIPTION:Spring  Hunters’ Education Course \nB-CC IWLA Hunter Safety Education instructors will be using the entire chapterhouse all weekend to teach their annual spring class \nBathrooms will be open\, and members are asked to enter the chapterhouse respectfully when accessing them \nThe greatroom of the chapterhouse\, the boardroom\, the cardroom\, and both kitchens will be occupied by the class all weekend \n 
URL:https://bcciwla.org/event/spring-hunters-education-course-2023-04-29-2024-04-27/
LOCATION:Chapterhouse
CATEGORIES:Chapterhouse,Hunting
ATTACH;FMTTYPE=image/jpeg:https://bcciwla.org/wp-content/uploads/2021/10/MD-Hunter-Safety-Patch.jpg
END:VEVENT
BEGIN:VEVENT
DTSTART;TZID=America/New_York:20240428T150000
DTEND;TZID=America/New_York:20240428T200000
DTSTAMP:20260420T173143
CREATED:20240330T144132Z
LAST-MODIFIED:20240404T160429Z
UID:10003848-1714316400-1714334400@bcciwla.org
SUMMARY:Eagle Scout Court of Honor (Connor Shelbourne)
DESCRIPTION:
URL:https://bcciwla.org/event/eagle-scout-court-of-honor/
LOCATION:Chapterhouse
CATEGORIES:Chapterhouse
END:VEVENT
BEGIN:VEVENT
DTSTART;TZID=America/New_York:20240420T080000
DTEND;TZID=America/New_York:20240420T160000
DTSTAMP:20260420T173143
CREATED:20240419T003812Z
LAST-MODIFIED:20240419T003812Z
UID:10003692-1713600000-1713628800@bcciwla.org
SUMMARY:Chapter House Closed for events (8am - 4 pm)
DESCRIPTION:Chapter House is closed for events from 8pm to 4pm for painting
URL:https://bcciwla.org/event/chapter-house-closed-for-events-8am-4-pm/
LOCATION:Chapterhouse
CATEGORIES:Chapterhouse
END:VEVENT
BEGIN:VEVENT
DTSTART;TZID=America/New_York:20240413T143000
DTEND;TZID=America/New_York:20240414T100000
DTSTAMP:20260420T173143
CREATED:20240305T144225Z
LAST-MODIFIED:20240305T144350Z
UID:10000593-1713018600-1713088800@bcciwla.org
SUMMARY:2024 Spring Family Campout (Chapterhouse Grounds)
DESCRIPTION:This is a great time to spend time with your immediate family and to meet some of the chapter family of B-CC IWLA members\, spouses\, and kids. Events will start Saturday afternoon and continue overnight for those camping into Sunday morning\n\nIf you can’t squeeze that much fun into your busy schedule\, then join us for the parts of the weekend that you can manage:\n\n\nSaturday\nThe electronic front gate will be kept open from 2:15pm until 6pm\nFamily tent setup around the chapterhouse begins at 2:30pm\nFishing  4pm-5:30pm\nBurgers & ‘dogs served between 5:30pm & 6:30pm\n“Mystery Activities” 7:30pm-8pm\nS’mores & hot chocolate by firelight 8pm-8:45pm\n\n\nSunday\nBreakfast served to campers 7:30am – 8:30am\nBreakdown & cleanup should be completed by 10am\nSchedule some more family time at the farm on your own for the day!\n\n\n\n\nThere is NO fee for the family campout \n\nPlease register on the link below (before Weds 10th) \n\nhttps://www.signupgenius.com/go/10C0D4DACAA28A7F8C25-48377804-2024
URL:https://bcciwla.org/event/2024-spring-family-campout-chapterhouse-grounds/
LOCATION:Chapterhouse
CATEGORIES:Chapterhouse,Miscellaneous
ORGANIZER;CN="Andy Wight":MAILTO:andywight1@hotmail.com
END:VEVENT
BEGIN:VEVENT
DTSTART;TZID=America/New_York:20240323T100000
DTEND;TZID=America/New_York:20240323T130000
DTSTAMP:20260420T173143
CREATED:20200608T154735Z
LAST-MODIFIED:20240323T135335Z
UID:10003618-1711188000-1711198800@bcciwla.org
SUMMARY:CANCELLED: New and Prospective Members Orientation Tour (10am-1pm)
DESCRIPTION:Come join us on the B-CC IWLA Orientation Tour! \nThis event is open to all members (new and old) and those who are interested in membership to the chapter or just curious about what we do. \nThis guided tour of our property will include an overview of our history and mission\, our facilities\, the partnerships with local schools and organizations and a chance to meet and ask questions to current members. \nFollow Izaak Walton Way through the gate to the Chapter House parking lot where we will be meeting to start the tour.
URL:https://bcciwla.org/event/new-member-orientation-tour-10am-noon-2020-09-21-2024-03-16/
LOCATION:Chapterhouse
CATEGORIES:Chapterhouse,Membership,R&P Range,Shotgun Range
ATTACH;FMTTYPE=image/jpeg:https://bcciwla.org/wp-content/uploads/2020/06/Tour-Guide-Border.jpg
END:VEVENT
BEGIN:VEVENT
DTSTART;TZID=America/New_York:20240224T100000
DTEND;TZID=America/New_York:20240224T130000
DTSTAMP:20260420T173143
CREATED:20200608T154735Z
LAST-MODIFIED:20240223T232539Z
UID:10000557-1708768800-1708779600@bcciwla.org
SUMMARY:Cancelled: New and Prospective Members Orientation Tour (10am-1pm)
DESCRIPTION:Come join us on the B-CC IWLA Orientation Tour! \nThis event is open to all members (new and old) and those who are interested in membership to the chapter or just curious about what we do. \nThis guided tour of our property will include an overview of our history and mission\, our facilities\, the partnerships with local schools and organizations and a chance to meet and ask questions to current members. \nFollow Izaak Walton Way through the gate to the Chapter House parking lot where we will be meeting to start the tour.
URL:https://bcciwla.org/event/new-member-orientation-tour-10am-noon-2020-09-21-2024-02-17/
LOCATION:Chapterhouse
CATEGORIES:Chapterhouse,Membership,R&P Range,Shotgun Range
ATTACH;FMTTYPE=image/jpeg:https://bcciwla.org/wp-content/uploads/2020/06/Tour-Guide-Border.jpg
END:VEVENT
BEGIN:VEVENT
DTSTART;TZID=America/New_York:20240120T100000
DTEND;TZID=America/New_York:20240120T130000
DTSTAMP:20260420T173143
CREATED:20200608T154735Z
LAST-MODIFIED:20240119T025617Z
UID:10003619-1705744800-1705755600@bcciwla.org
SUMMARY:New and Prospective Members Orientation Tour (10am-1pm)
DESCRIPTION:Come join us on the B-CC IWLA Orientation Tour! \nThis event is open to all members (new and old) and those who are interested in membership to the chapter or just curious about what we do. \nThis guided tour of our property will include an overview of our history and mission\, our facilities\, the partnerships with local schools and organizations and a chance to meet and ask questions to current members. \nFollow Izaak Walton Way through the gate to the Chapter House parking lot where we will be meeting to start the tour.
URL:https://bcciwla.org/event/new-member-orientation-tour-10am-noon-2020-09-21-2024-01-20/
LOCATION:Chapterhouse
CATEGORIES:Chapterhouse,Membership,R&P Range,Shotgun Range
ATTACH;FMTTYPE=image/jpeg:https://bcciwla.org/wp-content/uploads/2020/06/Tour-Guide-Border.jpg
END:VEVENT
BEGIN:VEVENT
DTSTART;TZID=America/New_York:20231217T070000
DTEND;TZID=America/New_York:20231217T120000
DTSTAMP:20260420T173143
CREATED:20231018T134733Z
LAST-MODIFIED:20231018T134733Z
UID:10002839-1702796400-1702814400@bcciwla.org
SUMMARY:Montgomery Bird Club: Christmas Bird Count
DESCRIPTION:Annual Montgomery Bird Club’s Christmas Bird Count \n7am – noon (CH)
URL:https://bcciwla.org/event/montgomery-bird-club-christmas-bird-count/
LOCATION:Chapterhouse
CATEGORIES:Birdwatching,Chapterhouse
END:VEVENT
BEGIN:VEVENT
DTSTART;TZID=America/New_York:20231207T190000
DTEND;TZID=America/New_York:20231207T200000
DTSTAMP:20260420T173143
CREATED:20231204T225032Z
LAST-MODIFIED:20231204T225509Z
UID:10003498-1701975600-1701979200@bcciwla.org
SUMMARY:Pack 694 Den Meet (Kyle) 7pm
DESCRIPTION:
URL:https://bcciwla.org/event/pack-694-den-meet-kyle-ch-7pm-8pm/
LOCATION:Chapterhouse
CATEGORIES:Chapterhouse
END:VEVENT
END:VCALENDAR